BEGIN:VCALENDAR
VERSION:2.0
PRODID:-//ChamberMaster//Event Calendar 2.0//EN
METHOD:PUBLISH
X-PUBLISHED-TTL:P3D
REFRESH-INTERVAL:P3D
CALSCALE:GREGORIAN
BEGIN:VEVENT
DTSTART;VALUE=DATE:20190522
DTEND;VALUE=DATE:20190523
TRANSP:TRANSPARENT
X-MICROSOFT-CDO-ALLDAYEVENT:TRUE
SUMMARY:Scrub Sale
DESCRIPTION:CHI St. Joseph's Health would like to honor all retired\, practicing and future nurses in our community. You are invited to join us at 5:30pm at St. John's Lutheran Church in Park Rapids for this celebration of nursing during National Nurses' Week. A light meal will be served after the service. For meal planning purposes\, PLEASE RSVP by MAY 1\, 2019 to Lisa Rice 218.616.3345.
X-ALT-DESC;FMTTYPE=text/html:<span style="font-family:myriad pro\,sans-serif\;">CHI St. Joseph&rsquo\;s Health would like to honor all retired\, practicing and future nurses in our community. You are invited to join us at 5:30pm at St. John&rsquo\;s Lutheran Church in Park Rapids for this celebration of nursing during National Nurses&rsquo\; Week. A light meal will be served after the service. For meal planning purposes\, PLEASE RSVP by MAY 1\, 2019 to Lisa Rice <strong>218.616.3345</strong>.</span>
LOCATION:
UID:e.11.20117
SEQUENCE:3
DTSTAMP:20260419T181519Z
URL:https://business.leech-lake.com/events/details/scrub-sale-20117
END:VEVENT

END:VCALENDAR
